BEGIN:VCALENDAR
VERSION:2.0
PRODID:-//eventon.com NONSGML v1.0//EN
CALSCALE:GREGORIAN
METHOD:PUBLISH
BEGIN:VEVENT
UID:69e74eeee62bb
DTSTAMP:20260421T101822Z
DTSTART:20240910
DTEND:20240911
LOCATION:
SUMMARY:(Master Class) What’s New in Real Estate
DESCRIPTION:Download PDF Invite. Welcome Back to CRES Affiliates and Intere
 sted Students DATETuesday\,  September 10\,  2024 TIME12:50 p.m.–1:50 p.m
 . Pizza will be served. LOCATIONW420 RSVP to this master class. In this mas
 ter class\,  Professor and CRES Director Gerald Korngold and Associate Dean
  Erin Bond will brief attendees on the Center’s plans[..]\nhttps://www.ny
 ls.edu/events/master-class-whats-new-in-real-estate/
URL:https://www.nyls.edu/events/master-class-whats-new-in-real-estate/
END:VEVENT
END:VCALENDAR