BEGIN:VCALENDAR
VERSION:2.0
PRODID:-//eventon.com NONSGML v1.0//EN
CALSCALE:GREGORIAN
METHOD:PUBLISH
BEGIN:VEVENT
UID:69e9ea5ff3ae1
DTSTAMP:20260423T094607Z
DTSTART:20240902
DTEND:20240903
LOCATION:
SUMMARY:Academic Success Program Workshop Week 1: Time Management Tools and Organizational Systems
DESCRIPTION:Download PDF Invite. WEEK 1 DATESeptember 2–3\,  2024 TIME12:
 50 p.m.–1:50 p.m. Every fall\,  the team driving NYLS’s Academic Succes
 s Program (ASP) hosts lunchtime workshops for first-year students\,  provid
 ing them the opportunity to revisit the learning strategies and skills intr
 oduced in their Foundations for the Study of Law (FSL) sessions. 1Ls[..]\nh
 ttps://www.nyls.edu/events/academic-success-program-workshop-week-1-time-ma
 nagement-tools-and-organizational-systems/
URL:https://www.nyls.edu/events/academic-success-program-workshop-week-1-time-management-tools-and-organizational-systems/
END:VEVENT
END:VCALENDAR