BEGIN:VCALENDAR
VERSION:2.0
PRODID:-//eventon.com NONSGML v1.0//EN
CALSCALE:GREGORIAN
METHOD:PUBLISH
BEGIN:VEVENT
UID:69e738fb98222
DTSTAMP:20260421T084443Z
DTSTART:20241028T165000Z
DTEND:20241029T175000Z
LOCATION:
SUMMARY:Academic Success Program Workshop Week 8: Multiple Choice Questions
DESCRIPTION:Download PDF Invite. WEEK 8 DATEOctober 28–29\,  2024 TIME12:
 50 p.m.–1:50 p.m. Every fall\,  the team driving NYLS’s Academic Succes
 s Program (ASP) hosts lunchtime workshops for first-year students\,  provid
 ing them the opportunity to revisit the learning strategies and skills intr
 oduced in their Foundations for the Study of Law (FSL) sessions. 1Ls[..]\nh
 ttps://www.nyls.edu/events/academic-success-program-workshop-week-8-multipl
 e-choice-questions/
URL:https://www.nyls.edu/events/academic-success-program-workshop-week-8-multiple-choice-questions/
END:VEVENT
END:VCALENDAR