BEGIN:VCALENDAR
VERSION:2.0
PRODID:-//eventon.com NONSGML v1.0//EN
CALSCALE:GREGORIAN
METHOD:PUBLISH
BEGIN:VEVENT
UID:69e750bb453ad
DTSTAMP:20260421T102603Z
DTSTART:20241211T230000Z
DTEND:20241212T000000Z
LOCATION:
SUMMARY:Academic Success: Guiding You Through Law School
DESCRIPTION:DateWednesday\,  December 11\,  2024 Time6:00 p.m.–7:00 p.m. 
 ET LocationVirtual Register for this Admissions event. Beginning day one of
  your law school journey\,  NYLS seamlessly integrates academic planning an
 d career development to prepare you to launch your professional life.&nbsp;
  Come hear about the tailored guidance\,  professional development\,  and n
 etworking support that[..]\nhttps://www.nyls.edu/events/nyls-academic-succe
 ss-tips-and-tricks/
URL:https://www.nyls.edu/events/nyls-academic-success-tips-and-tricks/
END:VEVENT
END:VCALENDAR