BEGIN:VCALENDAR
VERSION:2.0
PRODID:-//eventon.com NONSGML v1.0//EN
CALSCALE:GREGORIAN
METHOD:PUBLISH
BEGIN:VEVENT
UID:69e9d7d22cafd
DTSTAMP:20260423T082658Z
DTSTART:20250129
DTEND:20250130
LOCATION:
SUMMARY:Asian Pacific American Law Students Association's Annual Lunar New Year Celebration
DESCRIPTION:Download PDF Invite. DATEWednesday\,  January 29\,  2025 TIME12
 :50 p.m.–1:50 p.m. LOCATIONEvents Center (W201) RSVP TO THIS EVENT. Celeb
 rate the Year of the Wood Snake with festivities honoring Chinese\,  Korean
  (Seollal)\,  and Vietnamese (Tết) New Year traditions. Enjoy traditional
  foods and cultural activities. Don’t miss this chance to celebrate\,  co
 nnect\,  and[..]\nhttps://www.nyls.edu/events/asian-pacific-american-law-st
 udents-associations-annual-lunar-new-year-celebration/
URL:https://www.nyls.edu/events/asian-pacific-american-law-students-associations-annual-lunar-new-year-celebration/
END:VEVENT
END:VCALENDAR