BEGIN:VCALENDAR
VERSION:2.0
PRODID:-//eventon.com NONSGML v1.0//EN
CALSCALE:GREGORIAN
METHOD:PUBLISH
BEGIN:VEVENT
UID:69e75269571b1
DTSTAMP:20260421T103313Z
DTSTART:20250423T130000Z
DTEND:20250423T220000Z
LOCATION:
SUMMARY:Bar Review Vendor Pop-Up
DESCRIPTION:Download PDF Invite. DATEWednesday\,  April 23\,  2025 TIMEBetw
 een the hours of 9:00 a.m. and 6:00 p.m. LOCATIONW Building\,  Café Lexpre
 ss Lounge It’s never too early for bar prep!&nbsp;All upper-level student
 s are welcome and encouraged to visit thebar vendor tables to acquire free 
 MPRE prep materials and investigate discounted rates for[..]\nhttps://www.n
 yls.edu/events/bar-review-vendor-pop-up-apr-23/
URL:https://www.nyls.edu/events/bar-review-vendor-pop-up-apr-23/
END:VEVENT
END:VCALENDAR