BEGIN:VCALENDAR
VERSION:2.0
PRODID:-//eventon.com NONSGML v1.0//EN
CALSCALE:GREGORIAN
METHOD:PUBLISH
BEGIN:VEVENT
UID:69e9e9f4adaef
DTSTAMP:20260423T094420Z
DTSTART:20250121T173000Z
DTEND:20250121T190000Z
LOCATION:
SUMMARY:Public Service Summer Internship Fair
DESCRIPTION:Download PDF Invite. DATETuesday\,  January 21\,  2025 TIME12:3
 0 p.m.–2:00 p.m.&nbsp; LOCATIONEvents Center\,  Second Floor Please RSVP 
 on Symplicity\,  under Events. Come meet government and public interest att
 orneys who are looking to hire summer interns from NYLS! This event will be
  conducted in person\,  and students will meet with employers for[..]\nhttp
 s://www.nyls.edu/events/public-service-summer-internship-fair-2025/
URL:https://www.nyls.edu/events/public-service-summer-internship-fair-2025/
END:VEVENT
END:VCALENDAR