BEGIN:VCALENDAR
VERSION:2.0
PRODID:-//eventon.com NONSGML v1.0//EN
CALSCALE:GREGORIAN
METHOD:PUBLISH
BEGIN:VEVENT
UID:69e9eab7f131b
DTSTAMP:20260423T094735Z
DTSTART:20250422T165000Z
DTEND:20250422T175000Z
LOCATION:
SUMMARY:Tuesday Faculty Workshop – Ruti G. Teitel
DESCRIPTION:Organized and chaired by members of the Faculty Workshops Commi
 ttee PresenterRuti G. Teitel\,  Ernst C. Stiefel Professor of Comparative L
 aw; Co-Director\,  Center for International Law; Chair\,  Global Law and Ju
 stice Colloquium; Director\,  Institute for Global Law\,  Justice\,  and Po
 licy; Visiting Professor\,  Hebrew University School of Law\,  Mt. Scopus D
 ateTuesday\,  April[..]\nhttps://www.nyls.edu/events/tuesday-faculty-worksh
 op-ruti-g-teitel-2/
URL:https://www.nyls.edu/events/tuesday-faculty-workshop-ruti-g-teitel-2/
END:VEVENT
END:VCALENDAR