BEGIN:VCALENDAR
VERSION:2.0
PRODID:-//eventon.com NONSGML v1.0//EN
CALSCALE:GREGORIAN
METHOD:PUBLISH
BEGIN:VEVENT
UID:69e9eaa2be03d
DTSTAMP:20260423T094714Z
DTSTART:20250225
DTEND:20250226
LOCATION:
SUMMARY:Mid-Size Firm and Private Sector Networking Fair
DESCRIPTION:Download PDF Invite. DATETuesday\,  February 25\,  2025 TIME5:0
 0 p.m.–7:00 p.m. LOCATIONEvents Center\,  Second Floor RSVP on Symplicity
  Under &#8220;Events&#8221; Come meet our private sector employers who are 
 looking to connect with bright NYLS students. This in-person event will pro
 vide students with an informal opportunity to connect with alumni and recru
 iting[..]\nhttps://www.nyls.edu/events/mid-size-firm-and-private-sector-net
 working-fair/
URL:https://www.nyls.edu/events/mid-size-firm-and-private-sector-networking-fair/
END:VEVENT
END:VCALENDAR