BEGIN:VCALENDAR
VERSION:2.0
PRODID:-//eventon.com NONSGML v1.0//EN
CALSCALE:GREGORIAN
METHOD:PUBLISH
BEGIN:VEVENT
UID:69e7392c30ad7
DTSTAMP:20260421T084532Z
DTSTART:20250404T133000Z
DTEND:20250404T233000Z
LOCATION:
SUMMARY:Tribeca Cybersecurity Summit 2025
DESCRIPTION:Download PDF Invite. DATEFriday\,  April 4\,  2025 TIME9:30 a.m
 .–7:30 p.m. LOCATIONNew York Law SchoolSecond Floor\,  Events Center185 W
 est BroadwayNew York\,  NY 10013(In-person only. Streaming not available.) 
 RSVP TO THIS EVENT.Registration is mandatory. SECURITYPrior to entry\,  all
  guests must present government-issued ID to the Security Desk (no exceptio
 ns allowed). The James[..]\nhttps://www.nyls.edu/events/tribeca-cybersecuri
 ty-summit-2025/
URL:https://www.nyls.edu/events/tribeca-cybersecurity-summit-2025/
END:VEVENT
END:VCALENDAR