BEGIN:VCALENDAR
VERSION:2.0
PRODID:-//eventon.com NONSGML v1.0//EN
CALSCALE:GREGORIAN
METHOD:PUBLISH
BEGIN:VEVENT
UID:69ed7fc98c363
DTSTAMP:20260426T030025Z
DTSTART:20250902
DTEND:20250903
LOCATION:
SUMMARY:Student Organization Fair and Office Spotlight
DESCRIPTION:Download PDF Invite. DATETuesday\,  September 2\,  2025 TIME12:
 00 p.m.–2:00 p.m. and 5:00 p.m.–6:00 p.m. LOCATIONSecond Floor Events C
 enter (W201) and Commons (W203) Don’t miss the annual NYLS Student Organi
 zation Fair and Office Spotlight! This event is the perfect opportunity to 
 learn more about how you can participate in NYLS’s many[..]\nhttps://www.
 nyls.edu/events/student-organization-fair-and-office-spotlight-2025/
URL:https://www.nyls.edu/events/student-organization-fair-and-office-spotlight-2025/
END:VEVENT
END:VCALENDAR