BEGIN:VCALENDAR
VERSION:2.0
PRODID:-//eventon.com NONSGML v1.0//EN
CALSCALE:GREGORIAN
METHOD:PUBLISH
BEGIN:VEVENT
UID:69eb2bbe05de5
DTSTAMP:20260424T083718Z
DTSTART:20251010T133000Z
DTEND:20251010T193000Z
LOCATION:
SUMMARY:(Book Event) Punish Treason\,  Reward Loyalty: The Forgotten Goals of Constitutional Reform After the Civil War
DESCRIPTION:Download PDF Invite. DATEFriday\,  October 10\,  2025 TIME9:30 
 a.m. – 3:30 p.m.&nbsp;ETOptional tour of Tribeca to follow the program. L
 OCATIONRoom W220New York Law School185 West Broadway\,  New York\,  NY 1001
 3 RSVP TO THIS EVENT. Join us for a celebration of Mark Graber’s groundbr
 eaking book\,  Punish Treason\,  Reward Loyalty: The Forgotten[..]\nhttps:/
 /www.nyls.edu/events/book-event-punish-treason-reward-loyalty-the-forgotten
 -goals-of-constitutional-reform-after-the-civil-war/
URL:https://www.nyls.edu/events/book-event-punish-treason-reward-loyalty-the-forgotten-goals-of-constitutional-reform-after-the-civil-war/
END:VEVENT
END:VCALENDAR