BEGIN:VCALENDAR
VERSION:2.0
PRODID:-//eventon.com NONSGML v1.0//EN
CALSCALE:GREGORIAN
METHOD:PUBLISH
BEGIN:VEVENT
UID:69eb2a805ce9c
DTSTAMP:20260424T083200Z
DTSTART:20260811
DTEND:20260812
LOCATION:
SUMMARY:Reference: Multistate Professional Responsibility Examination (MPRE)
DESCRIPTION:Reference: Multistate Professional Responsibility Examination (
 MPRE)\nhttps://www.nyls.edu/events/reference-multistate-professional-respon
 sibility-examination-mpre/
URL:https://www.nyls.edu/events/reference-multistate-professional-responsibility-examination-mpre/
END:VEVENT
END:VCALENDAR