BEGIN:VCALENDAR
VERSION:2.0
PRODID:-//eventon.com NONSGML v1.0//EN
CALSCALE:GREGORIAN
METHOD:PUBLISH
BEGIN:VEVENT
UID:69e8fda1369a0
DTSTAMP:20260422T165601Z
DTSTART:20260812
DTEND:20260813
LOCATION:
SUMMARY:Reference: Multistate Professional Responsibility Examination (MPRE)
DESCRIPTION:Reference: Multistate Professional Responsibility Examination (
 MPRE)\nhttps://www.nyls.edu/events/reference-multistate-professional-respon
 sibility-examination-mpre-2026/
URL:https://www.nyls.edu/events/reference-multistate-professional-responsibility-examination-mpre-2026/
END:VEVENT
END:VCALENDAR