BEGIN:VCALENDAR
VERSION:2.0
PRODID:-//eventon.com NONSGML v1.0//EN
CALSCALE:GREGORIAN
METHOD:PUBLISH
BEGIN:VEVENT
UID:69eb2c0ff12c2
DTSTAMP:20260424T083839Z
DTSTART:20260824T130000Z
DTEND:20260825T035900Z
LOCATION:
SUMMARY:First day of classes
DESCRIPTION:First day of classes\nhttps://www.nyls.edu/events/first-day-of-
 classes-aug-2026/
URL:https://www.nyls.edu/events/first-day-of-classes-aug-2026/
END:VEVENT
END:VCALENDAR