BEGIN:VCALENDAR
VERSION:2.0
PRODID:-//eventon.com NONSGML v1.0//EN
CALSCALE:GREGORIAN
METHOD:PUBLISH
BEGIN:VEVENT
UID:69e8fed5e34e8
DTSTAMP:20260422T170109Z
DTSTART:20260831T130000Z
DTEND:20260901T035900Z
LOCATION:
SUMMARY:Last day to add/drop classes online
DESCRIPTION:Last day to add/drop classes online\nhttps://www.nyls.edu/event
 s/last-day-to-add-drop-classes-online-aug-2026/
URL:https://www.nyls.edu/events/last-day-to-add-drop-classes-online-aug-2026/
END:VEVENT
END:VCALENDAR