BEGIN:VCALENDAR
VERSION:2.0
PRODID:-//eventon.com NONSGML v1.0//EN
CALSCALE:GREGORIAN
METHOD:PUBLISH
BEGIN:VEVENT
UID:69e7532c3fa20
DTSTAMP:20260421T103628Z
DTSTART:20260630
DTEND:20260701
LOCATION:
SUMMARY:Application Deadline for Fall 2026: J.D. First Year Admission
DESCRIPTION:(Priority consideration: March 15\,  2026)\nhttps://www.nyls.ed
 u/events/application-deadline-for-fall-2026-j-d-first-year-admission/
URL:https://www.nyls.edu/events/application-deadline-for-fall-2026-j-d-first-year-admission/
END:VEVENT
END:VCALENDAR