BEGIN:VCALENDAR
VERSION:2.0
PRODID:-//eventon.com NONSGML v1.0//EN
CALSCALE:GREGORIAN
METHOD:PUBLISH
BEGIN:VEVENT
UID:69e8f4e1cd094
DTSTAMP:20260422T161841Z
DTSTART:20260417T130000Z
DTEND:20260417T213000Z
LOCATION:
SUMMARY:Constitutionalism\,  The Rule of Law and Democracy: A Retrospective on Jack Balkin’s Impact
DESCRIPTION:Download PDF Invite. DATEFriday\,  April 17\,  2026 TIME9:00 a.
 m. – 5:30 p.m.Lunch will be provided. LOCATIONRoom W400New York Law Schoo
 l185 West Broadway\,  New York\,  NY 10013 RSVP TO THIS EVENT. Considerable
  challenges to the rule of law and democracy have surfaced in recent decade
 s. These challenges are local in nature\, [..]\nhttps://www.nyls.edu/events
 /constitutionalism-the-rule-of-law-and-democracy-a-retrospective-on-jack-ba
 lkins-impact/
URL:https://www.nyls.edu/events/constitutionalism-the-rule-of-law-and-democracy-a-retrospective-on-jack-balkins-impact/
END:VEVENT
END:VCALENDAR