BEGIN:VCALENDAR
VERSION:2.0
PRODID:-//eventon.com NONSGML v1.0//EN
CALSCALE:GREGORIAN
METHOD:PUBLISH
BEGIN:VEVENT
UID:69e884924b713
DTSTAMP:20260422T081930Z
DTSTART:20240903
DTEND:20240904
LOCATION:
SUMMARY:Last day to add/drop classes online
DESCRIPTION:Last day to add/drop classes online\nhttps://www.nyls.edu/event
 s/last-day-to-add-drop-classes-online-fall-2024/
URL:https://www.nyls.edu/events/last-day-to-add-drop-classes-online-fall-2024/
END:VEVENT
END:VCALENDAR