BEGIN:VCALENDAR
VERSION:2.0
PRODID:-//eventon.com NONSGML v1.0//EN
CALSCALE:GREGORIAN
METHOD:PUBLISH
BEGIN:VEVENT
UID:69e8849fba894
DTSTAMP:20260422T081943Z
DTSTART:20240826
DTEND:20240827
LOCATION:
SUMMARY:First day of classes
DESCRIPTION:First day of classes\nhttps://www.nyls.edu/events/first-day-of-
 classes-fall-2024/
URL:https://www.nyls.edu/events/first-day-of-classes-fall-2024/
END:VEVENT
END:VCALENDAR